BEGIN:VCALENDAR
VERSION:2.0
PRODID:-//Münchener Mineralienfreunde e.V. - ECPv6.15.20//NONSGML v1.0//EN
CALSCALE:GREGORIAN
METHOD:PUBLISH
X-WR-CALNAME:Münchener Mineralienfreunde e.V.
X-ORIGINAL-URL:https://www.mineralienfreunde.com
X-WR-CALDESC:Veranstaltungen für Münchener Mineralienfreunde e.V.
REFRESH-INTERVAL;VALUE=DURATION:PT1H
X-Robots-Tag:noindex
X-PUBLISHED-TTL:PT1H
BEGIN:VTIMEZONE
TZID:Europe/Berlin
BEGIN:DAYLIGHT
TZOFFSETFROM:+0100
TZOFFSETTO:+0200
TZNAME:CEST
DTSTART:20220327T010000
END:DAYLIGHT
BEGIN:STANDARD
TZOFFSETFROM:+0200
TZOFFSETTO:+0100
TZNAME:CET
DTSTART:20221030T010000
END:STANDARD
BEGIN:DAYLIGHT
TZOFFSETFROM:+0100
TZOFFSETTO:+0200
TZNAME:CEST
DTSTART:20230326T010000
END:DAYLIGHT
BEGIN:STANDARD
TZOFFSETFROM:+0200
TZOFFSETTO:+0100
TZNAME:CET
DTSTART:20231029T010000
END:STANDARD
BEGIN:DAYLIGHT
TZOFFSETFROM:+0100
TZOFFSETTO:+0200
TZNAME:CEST
DTSTART:20240331T010000
END:DAYLIGHT
BEGIN:STANDARD
TZOFFSETFROM:+0200
TZOFFSETTO:+0100
TZNAME:CET
DTSTART:20241027T010000
END:STANDARD
END:VTIMEZONE
BEGIN:VEVENT
DTSTART;TZID=Europe/Berlin:20230307T180000
DTEND;TZID=Europe/Berlin:20230307T180000
DTSTAMP:20260424T090619
CREATED:20221118T070435Z
LAST-MODIFIED:20221118T070435Z
UID:1993-1678212000-1678212000@www.mineralienfreunde.com
SUMMARY:Calcit - Mineral des Jahres 2022
DESCRIPTION:  \nVortrag von M. Hohl aus Böhen. Tauschgelegenheit ab 18 Uhr\, Beginn Vortrag um 19 Uhr.
URL:https://www.mineralienfreunde.com/termin/calcit-mineral-des-jahres-2022/
LOCATION:LMU München – Hörsaal C111\, Theresienstraße 41\, München\, 80333\, Deutschland
CATEGORIES:Verein
END:VEVENT
BEGIN:VEVENT
DTSTART;TZID=Europe/Berlin:20230314T180000
DTEND;TZID=Europe/Berlin:20230314T180000
DTSTAMP:20260424T090619
CREATED:20230110T094400Z
LAST-MODIFIED:20230111T063907Z
UID:2069-1678816800-1678816800@www.mineralienfreunde.com
SUMMARY:Anfänger & Senioren: Geologie des Sauerlandes\, Firma "Westkalk" im Portrait
DESCRIPTION:  \nVortrag von A. Oelmann und K. D. Hoffmann. \nBeginn des Treffens um 18:00 Uhr\, Beginn des Vortrags um 19:00 Uhr.
URL:https://www.mineralienfreunde.com/termin/anfaenger-senioren-geologie-des-sauerlandes-firma-westkalk-im-portrait/
LOCATION:Königsgarten im Hansahaus (am Königsplatz)\, Brienner Str. 39\, 80333 München
CATEGORIES:Anfänger & Senioren
END:VEVENT
BEGIN:VEVENT
DTSTART;TZID=Europe/Berlin:20230316T170000
DTEND;TZID=Europe/Berlin:20230316T170000
DTSTAMP:20260424T090619
CREATED:20221128T081232Z
LAST-MODIFIED:20221130T070112Z
UID:2017-1678986000-1678986000@www.mineralienfreunde.com
SUMMARY:Micromounter - Elemente\, Stufen aus der Lithothek
DESCRIPTION:  \nVortrag von Manfred Seitz. Treffen ab 17.00 Uhr\, Umlauf ab ca. 19.00 Uhr.
URL:https://www.mineralienfreunde.com/termin/elemente-stufen-aus-der-lithothek/
LOCATION:Gaststätte Tassilo\, Am Sportpark 4\, 85609 Aschheim\, Deutschland
CATEGORIES:Micromounter
END:VEVENT
BEGIN:VEVENT
DTSTART;TZID=Europe/Berlin:20230321T170000
DTEND;TZID=Europe/Berlin:20230321T170000
DTSTAMP:20260424T090619
CREATED:20221214T071326Z
LAST-MODIFIED:20221214T071326Z
UID:2052-1679418000-1679418000@www.mineralienfreunde.com
SUMMARY:Steinschleifer: Vortrag "Reisebericht Insel Elba"
DESCRIPTION:  \nVortragender: Thomas Wimmer\, Leitung: NN\, Ab 17.00 Uhr besteht die Möglichkeit etwas zu essen und zu trinken. Beginn des Vortrags um 18:30 Uhr.
URL:https://www.mineralienfreunde.com/termin/steinschleifer-vortrag-reisebericht-insel-elba/
LOCATION:Königsgarten im Hansahaus (am Königsplatz)\, Brienner Str. 39\, 80333 München
CATEGORIES:Steinschleifer
END:VEVENT
BEGIN:VEVENT
DTSTART;TZID=Europe/Berlin:20230330T180000
DTEND;TZID=Europe/Berlin:20230330T180000
DTSTAMP:20260424T090619
CREATED:20230210T130219Z
LAST-MODIFIED:20230210T130219Z
UID:2092-1680199200-1680199200@www.mineralienfreunde.com
SUMMARY:Mineralogie - Grenzgebirge Ural
DESCRIPTION:  \nBeginn des Treffens ist um 18.00 Uhr.
URL:https://www.mineralienfreunde.com/termin/mineralogie-grenzgebirge-ural/
LOCATION:Stufenheim\, Am Brunnen 18\, 85551 Kirchheim\, Deutschland
CATEGORIES:Mineralogie
END:VEVENT
END:VCALENDAR