BEGIN:VCALENDAR
VERSION:2.0
PRODID:-//Münchener Mineralienfreunde e.V. - ECPv6.15.20//NONSGML v1.0//EN
CALSCALE:GREGORIAN
METHOD:PUBLISH
X-ORIGINAL-URL:https://www.mineralienfreunde.com
X-WR-CALDESC:Veranstaltungen für Münchener Mineralienfreunde e.V.
REFRESH-INTERVAL;VALUE=DURATION:PT1H
X-Robots-Tag:noindex
X-PUBLISHED-TTL:PT1H
BEGIN:VTIMEZONE
TZID:Europe/Berlin
BEGIN:DAYLIGHT
TZOFFSETFROM:+0100
TZOFFSETTO:+0200
TZNAME:CEST
DTSTART:20220327T010000
END:DAYLIGHT
BEGIN:STANDARD
TZOFFSETFROM:+0200
TZOFFSETTO:+0100
TZNAME:CET
DTSTART:20221030T010000
END:STANDARD
BEGIN:DAYLIGHT
TZOFFSETFROM:+0100
TZOFFSETTO:+0200
TZNAME:CEST
DTSTART:20230326T010000
END:DAYLIGHT
BEGIN:STANDARD
TZOFFSETFROM:+0200
TZOFFSETTO:+0100
TZNAME:CET
DTSTART:20231029T010000
END:STANDARD
BEGIN:DAYLIGHT
TZOFFSETFROM:+0100
TZOFFSETTO:+0200
TZNAME:CEST
DTSTART:20240331T010000
END:DAYLIGHT
BEGIN:STANDARD
TZOFFSETFROM:+0200
TZOFFSETTO:+0100
TZNAME:CET
DTSTART:20241027T010000
END:STANDARD
END:VTIMEZONE
BEGIN:VEVENT
DTSTART;TZID=Europe/Berlin:20231107T180000
DTEND;TZID=Europe/Berlin:20231107T180000
DTSTAMP:20260423T210630
CREATED:20221118T072231Z
LAST-MODIFIED:20221118T072231Z
UID:2005-1699380000-1699380000@www.mineralienfreunde.com
SUMMARY:Scheelitbergwerk Mittersill
DESCRIPTION:  \nVortrag von A. Mosser aus Mittersill. Tauschgelegenheit ab 18.00 Uhr\, Beginn Vortrag um 19.00 Uhr.
URL:https://www.mineralienfreunde.com/termin/scheelitbergwerk-mittersill/
LOCATION:LMU München – Hörsaal C111\, Theresienstraße 41\, München\, 80333\, Deutschland
CATEGORIES:Verein
END:VEVENT
BEGIN:VEVENT
DTSTART;TZID=Europe/Berlin:20231114T180000
DTEND;TZID=Europe/Berlin:20231114T180000
DTSTAMP:20260423T210630
CREATED:20230523T072617Z
LAST-MODIFIED:20230911T061854Z
UID:2131-1699984800-1699984800@www.mineralienfreunde.com
SUMMARY:Anfänger & Senioren: Die "Tucson-Show" - Mehr als nur eine Sammlerreise mit Börsenbesuch
DESCRIPTION:  \nVortrag von Stefan Kaserer. \nBeginn des Treffens um 18:00 Uhr\, Beginn des Vortrags um 19:00 Uhr.
URL:https://www.mineralienfreunde.com/termin/anfaenger-senioren-die-tucson-show-mehr-als-nur-eine-sammlerreise-mit-boersenbesuch/
LOCATION:Gaststätte Tassilo\, Am Sportpark 4\, 85609 Aschheim\, Deutschland
CATEGORIES:Anfänger & Senioren
END:VEVENT
BEGIN:VEVENT
DTSTART;TZID=Europe/Berlin:20231116T170000
DTEND;TZID=Europe/Berlin:20231116T170000
DTSTAMP:20260423T210630
CREATED:20221128T085719Z
LAST-MODIFIED:20221130T065644Z
UID:2029-1700154000-1700154000@www.mineralienfreunde.com
SUMMARY:Micromounter - Mineralien von tschechischen Fundorten - Teil 2
DESCRIPTION:  \nVortrag von Thomas Schüttig. Treffen ab 17.00 Uhr\, Umlauf ab ca. 19.00 Uhr.
URL:https://www.mineralienfreunde.com/termin/mineralien-von-tschechischen-fundorten-teil-2/
LOCATION:Gaststätte Tassilo\, Am Sportpark 4\, 85609 Aschheim\, Deutschland
CATEGORIES:Micromounter
END:VEVENT
BEGIN:VEVENT
DTSTART;TZID=Europe/Berlin:20231123T180000
DTEND;TZID=Europe/Berlin:20231123T180000
DTSTAMP:20260423T210630
CREATED:20231105T123926Z
LAST-MODIFIED:20231105T124002Z
UID:2181-1700762400-1700762400@www.mineralienfreunde.com
SUMMARY:Mineralogie - Ist Wasser ein Mineral? (Teil 2)
DESCRIPTION:  \nBeginn des Treffens ist um 18 Uhr.
URL:https://www.mineralienfreunde.com/termin/mineralogie-ist-wasser-ein-mineral-teil-2/
LOCATION:Stufenheim\, Am Brunnen 18\, 85551 Kirchheim\, Deutschland
CATEGORIES:Mineralogie
END:VEVENT
END:VCALENDAR