BEGIN:VCALENDAR
VERSION:2.0
PRODID:-//Münchener Mineralienfreunde e.V. - ECPv6.15.20//NONSGML v1.0//EN
CALSCALE:GREGORIAN
METHOD:PUBLISH
X-ORIGINAL-URL:https://www.mineralienfreunde.com
X-WR-CALDESC:Veranstaltungen für Münchener Mineralienfreunde e.V.
REFRESH-INTERVAL;VALUE=DURATION:PT1H
X-Robots-Tag:noindex
X-PUBLISHED-TTL:PT1H
BEGIN:VTIMEZONE
TZID:Europe/Berlin
BEGIN:DAYLIGHT
TZOFFSETFROM:+0100
TZOFFSETTO:+0200
TZNAME:CEST
DTSTART:20220327T010000
END:DAYLIGHT
BEGIN:STANDARD
TZOFFSETFROM:+0200
TZOFFSETTO:+0100
TZNAME:CET
DTSTART:20221030T010000
END:STANDARD
BEGIN:DAYLIGHT
TZOFFSETFROM:+0100
TZOFFSETTO:+0200
TZNAME:CEST
DTSTART:20230326T010000
END:DAYLIGHT
BEGIN:STANDARD
TZOFFSETFROM:+0200
TZOFFSETTO:+0100
TZNAME:CET
DTSTART:20231029T010000
END:STANDARD
BEGIN:DAYLIGHT
TZOFFSETFROM:+0100
TZOFFSETTO:+0200
TZNAME:CEST
DTSTART:20240331T010000
END:DAYLIGHT
BEGIN:STANDARD
TZOFFSETFROM:+0200
TZOFFSETTO:+0100
TZNAME:CET
DTSTART:20241027T010000
END:STANDARD
END:VTIMEZONE
BEGIN:VEVENT
DTSTART;TZID=Europe/Berlin:20231205T170000
DTEND;TZID=Europe/Berlin:20231205T170000
DTSTAMP:20260423T193700
CREATED:20221118T072557Z
LAST-MODIFIED:20240723T152541Z
UID:2007-1701795600-1701795600@www.mineralienfreunde.com
SUMMARY:Barbarafeier mit großer Tombola
DESCRIPTION:  \nAb 17 Uhr Empfang mit Glühwein und Punsch im Garten neben dem Pavillon (warm anziehen) \nAb 19 Uhr Einlass in den Großen Saal\, Bewirtung bis 21 Uhr \nUm 20 Uhr Beginn Barbarafeier \nab 20:30 Uhr Tombola\, Losverkauf \n… und immer mal wieder Musik
URL:https://www.mineralienfreunde.com/termin/barbarafeier-mit-grosser-tombola/
LOCATION:Großer Saal im Hansahaus (am Königsplatz)\, Brienner Str. 39\, 80333 München
CATEGORIES:Verein
END:VEVENT
BEGIN:VEVENT
DTSTART;TZID=Europe/Berlin:20231219T170000
DTEND;TZID=Europe/Berlin:20231219T220000
DTSTAMP:20260423T193700
CREATED:20230602T153835Z
LAST-MODIFIED:20230602T153835Z
UID:2145-1703005200-1703023200@www.mineralienfreunde.com
SUMMARY:Steinschleifer: Weihnachtsfeier mit Versteigerung von Schleifmaterial
DESCRIPTION:  \nVortragende: NN \nLeitung: NN\, \nAb 17:00 Uhr besteht die Möglichkeit etwas zu essen und zu trinken. \nBeginn der Veranstaltung um 18:30 Uhr.
URL:https://www.mineralienfreunde.com/termin/steinschleifer-weihnachtsfeier-mit-versteigerung-von-schleifmaterial/
LOCATION:Königsgarten im Hansahaus (am Königsplatz)\, Brienner Str. 39\, 80333 München
CATEGORIES:Steinschleifer
END:VEVENT
END:VCALENDAR