BEGIN:VCALENDAR
VERSION:2.0
PRODID:-//Münchener Mineralienfreunde e.V. - ECPv6.15.20//NONSGML v1.0//EN
CALSCALE:GREGORIAN
METHOD:PUBLISH
X-WR-CALNAME:Münchener Mineralienfreunde e.V.
X-ORIGINAL-URL:https://www.mineralienfreunde.com
X-WR-CALDESC:Veranstaltungen für Münchener Mineralienfreunde e.V.
REFRESH-INTERVAL;VALUE=DURATION:PT1H
X-Robots-Tag:noindex
X-PUBLISHED-TTL:PT1H
BEGIN:VTIMEZONE
TZID:Europe/Berlin
BEGIN:DAYLIGHT
TZOFFSETFROM:+0100
TZOFFSETTO:+0200
TZNAME:CEST
DTSTART:20230326T010000
END:DAYLIGHT
BEGIN:STANDARD
TZOFFSETFROM:+0200
TZOFFSETTO:+0100
TZNAME:CET
DTSTART:20231029T010000
END:STANDARD
BEGIN:DAYLIGHT
TZOFFSETFROM:+0100
TZOFFSETTO:+0200
TZNAME:CEST
DTSTART:20240331T010000
END:DAYLIGHT
BEGIN:STANDARD
TZOFFSETFROM:+0200
TZOFFSETTO:+0100
TZNAME:CET
DTSTART:20241027T010000
END:STANDARD
BEGIN:DAYLIGHT
TZOFFSETFROM:+0100
TZOFFSETTO:+0200
TZNAME:CEST
DTSTART:20250330T010000
END:DAYLIGHT
BEGIN:STANDARD
TZOFFSETFROM:+0200
TZOFFSETTO:+0100
TZNAME:CET
DTSTART:20251026T010000
END:STANDARD
END:VTIMEZONE
BEGIN:VEVENT
DTSTART;TZID=Europe/Berlin:20240402T180000
DTEND;TZID=Europe/Berlin:20240402T180000
DTSTAMP:20260423T135222
CREATED:20231109T093312Z
LAST-MODIFIED:20240204T120956Z
UID:2189-1712080800-1712080800@www.mineralienfreunde.com
SUMMARY:Zillertaler Granat - Der rote Edelstein unter dem Blickwinkel der Mineralogie\, Archäologie und Geschichte
DESCRIPTION:  \nVortrag von B. Zerobin aus Ellmau. \nBeginn des Treffens um 18.00 Uhr mit Tauschgelegenheit. \nBeginn des Vortrags um 19.00 Uhr. \nUnsere Leihbibliothek ist von 18:00 – 18:45 Uhr geöffnet.
URL:https://www.mineralienfreunde.com/termin/zillertaler-granat-der-rote-edelstein-unter-dem-blickwinkel-der-mineralogie-archaeologie-und-geschichte/
LOCATION:LMU München – Hörsaal C112\, Theresienstraße 41\, 80333 München
CATEGORIES:Verein
END:VEVENT
BEGIN:VEVENT
DTSTART;TZID=Europe/Berlin:20240409T180000
DTEND;TZID=Europe/Berlin:20240409T180000
DTSTAMP:20260423T135222
CREATED:20231104T160807Z
LAST-MODIFIED:20231128T143208Z
UID:2172-1712685600-1712685600@www.mineralienfreunde.com
SUMMARY:Anfänger und Senioren - Spuren der Vergangenheit
DESCRIPTION:  \nVortrag von Ludwig Siebler aus Poing. \nBeginn des Treffens um 18:00 Uhr\, Beginn des Vortrags um 19:00 Uhr.
URL:https://www.mineralienfreunde.com/termin/anfaenger-und-senioren-spuren-der-vergangenheit/
LOCATION:Königsgarten im Hansahaus (am Königsplatz)\, Brienner Str. 39\, 80333 München
CATEGORIES:Anfänger & Senioren
END:VEVENT
BEGIN:VEVENT
DTSTART;TZID=Europe/Berlin:20240416T170000
DTEND;TZID=Europe/Berlin:20240416T210000
DTSTAMP:20260423T135222
CREATED:20240411T144648Z
LAST-MODIFIED:20240411T144648Z
UID:2326-1713286800-1713301200@www.mineralienfreunde.com
SUMMARY:Steinschleifer - Kurzvortrag: "Waldhambach - der verbotene Steinbruch" / Danach: Gemeinsames Herausfinden der Wünsche zur Abendgestaltung (Vorträge\, etc.)
DESCRIPTION:  \nVortragender: Klaus-Dieter Hoffmann / Leitung: Elisabeth Eberle\nAb 17:00 Uhr besteht die Möglichkeit etwas zu essen und zu trinken. Beginn der Veranstaltung um 18:30 Uhr.
URL:https://www.mineralienfreunde.com/termin/steinschleifer-kurzvortrag-waldhambach-der-verbotene-steinbruch-danach-gemeinsames-herausfinden-der-wuensche-zur-abendgestaltung-vortraege-etc/
LOCATION:Königsgarten im Hansahaus (am Königsplatz)\, Brienner Str. 39\, 80333 München
CATEGORIES:Steinschleifer
END:VEVENT
BEGIN:VEVENT
DTSTART;TZID=Europe/Berlin:20240418T173000
DTEND;TZID=Europe/Berlin:20240418T173000
DTSTAMP:20260423T135222
CREATED:20231202T141413Z
LAST-MODIFIED:20231202T141413Z
UID:2233-1713461400-1713461400@www.mineralienfreunde.com
SUMMARY:Micromounter - Grube Clara Mineralien (Teil 2)
DESCRIPTION:  \nVortrag von Manfred Früchtl. Treffen um 17.30 Uhr\, Umlauf ab ca. 19.00 Uhr.
URL:https://www.mineralienfreunde.com/termin/micromounter-grube-clara-mineralien-teil-2/
LOCATION:Gaststätte Tassilo\, Am Sportpark 4\, 85609 Aschheim\, Deutschland
CATEGORIES:Micromounter
END:VEVENT
BEGIN:VEVENT
DTSTART;TZID=Europe/Berlin:20240425T180000
DTEND;TZID=Europe/Berlin:20240425T180000
DTSTAMP:20260423T135222
CREATED:20240404T163340Z
LAST-MODIFIED:20240404T163340Z
UID:2322-1714068000-1714068000@www.mineralienfreunde.com
SUMMARY:Mineralogie - Metamorphe Abfolge der Gesteine und Mineralien
DESCRIPTION:  \nBeginn des Treffens ist um 18.00 Uhr.
URL:https://www.mineralienfreunde.com/termin/mineralogie-metamorphe-abfolge-der-gesteine-und-mineralien/
LOCATION:Stufenheim\, Am Brunnen 18\, 85551 Kirchheim\, Deutschland
CATEGORIES:Mineralogie
END:VEVENT
END:VCALENDAR