BEGIN:VCALENDAR
VERSION:2.0
PRODID:-//Münchener Mineralienfreunde e.V. - ECPv6.15.20//NONSGML v1.0//EN
CALSCALE:GREGORIAN
METHOD:PUBLISH
X-ORIGINAL-URL:https://www.mineralienfreunde.com
X-WR-CALDESC:Veranstaltungen für Münchener Mineralienfreunde e.V.
REFRESH-INTERVAL;VALUE=DURATION:PT1H
X-Robots-Tag:noindex
X-PUBLISHED-TTL:PT1H
BEGIN:VTIMEZONE
TZID:Europe/Berlin
BEGIN:DAYLIGHT
TZOFFSETFROM:+0100
TZOFFSETTO:+0200
TZNAME:CEST
DTSTART:20230326T010000
END:DAYLIGHT
BEGIN:STANDARD
TZOFFSETFROM:+0200
TZOFFSETTO:+0100
TZNAME:CET
DTSTART:20231029T010000
END:STANDARD
BEGIN:DAYLIGHT
TZOFFSETFROM:+0100
TZOFFSETTO:+0200
TZNAME:CEST
DTSTART:20240331T010000
END:DAYLIGHT
BEGIN:STANDARD
TZOFFSETFROM:+0200
TZOFFSETTO:+0100
TZNAME:CET
DTSTART:20241027T010000
END:STANDARD
BEGIN:DAYLIGHT
TZOFFSETFROM:+0100
TZOFFSETTO:+0200
TZNAME:CEST
DTSTART:20250330T010000
END:DAYLIGHT
BEGIN:STANDARD
TZOFFSETFROM:+0200
TZOFFSETTO:+0100
TZNAME:CET
DTSTART:20251026T010000
END:STANDARD
END:VTIMEZONE
BEGIN:VEVENT
DTSTART;TZID=Europe/Berlin:20240507T180000
DTEND;TZID=Europe/Berlin:20240507T180000
DTSTAMP:20260423T122731
CREATED:20231109T093509Z
LAST-MODIFIED:20240322T144036Z
UID:2191-1715104800-1715104800@www.mineralienfreunde.com
SUMMARY:Führung durch die Ausstellung "Moon Impact! - So entstand der Mond"\, anschließend Vortrag "Die glänzenden Minerale der Reichskrone in Wien"
DESCRIPTION:  \nVortrag von Prof. Dr. A. Gilg aus München. \n17:00 – 18:00 Uhr Führung durch die Ausstellung „Moon Impact! – So entstand der Mond“ mit Dr. Melanie Kaliwoda in Museum Mineralogia München \nAnschließend Treffen des Vereins ab 18:00 Uhr mit Tauschgelegenheit. \nUnsere Leihbibliothek ist von 18:00 – 18:45 Uhr geöffnet. \nBeginn des Vortrags um 19:00 Uhr. \n 
URL:https://www.mineralienfreunde.com/termin/die-glaenzenden-minerale-der-reichskrone-in-wien/
LOCATION:LMU München – Hörsaal C112\, Theresienstraße 41\, 80333 München
CATEGORIES:Verein
END:VEVENT
BEGIN:VEVENT
DTSTART;TZID=Europe/Berlin:20240514T180000
DTEND;TZID=Europe/Berlin:20240514T180000
DTSTAMP:20260423T122731
CREATED:20231104T161053Z
LAST-MODIFIED:20240513T164005Z
UID:2174-1715709600-1715709600@www.mineralienfreunde.com
SUMMARY:Anfänger und Senioren - Von den Anfängen der Münchener Mineralientage zur Munich Show
DESCRIPTION:  \nVortrag von Christoph Keilmann aus Oberhaching. \nBeginn des Treffens um 18:00 Uhr\, Beginn des Vortrags um 19:00 Uhr. \n 
URL:https://www.mineralienfreunde.com/termin/anfaenger-und-senioren-von-den-anfaengen-der-muenchener-mineralientage-zur-munich-show/
LOCATION:Königsgarten im Hansahaus (am Königsplatz)\, Brienner Str. 39\, 80333 München
CATEGORIES:Anfänger & Senioren
END:VEVENT
BEGIN:VEVENT
DTSTART;TZID=Europe/Berlin:20240516T173000
DTEND;TZID=Europe/Berlin:20240516T173000
DTSTAMP:20260423T122731
CREATED:20231202T141521Z
LAST-MODIFIED:20241018T151115Z
UID:2235-1715880600-1715880600@www.mineralienfreunde.com
SUMMARY:Micromounter - Mineralien aus Kupferlagerstätten
DESCRIPTION:Vortrag von Andreas Steinberger. Treffen um 17.30 Uhr\, Umlauf ab ca. 19.00 Uhr.
URL:https://www.mineralienfreunde.com/termin/micromounter-mineralien-aus-kupferlagerstaetten/
LOCATION:Gaststätte Tassilo\, Am Sportpark 4\, 85609 Aschheim\, Deutschland
CATEGORIES:Micromounter
END:VEVENT
BEGIN:VEVENT
DTSTART;TZID=Europe/Berlin:20240521T170000
DTEND;TZID=Europe/Berlin:20240521T210000
DTSTAMP:20260423T122731
CREATED:20240220T131322Z
LAST-MODIFIED:20241018T140548Z
UID:2292-1716310800-1716325200@www.mineralienfreunde.com
SUMMARY:Steinschleifer - Vortrag: Wege des Lichts - Teil 1
DESCRIPTION:  \nVortragender: Dr. Andreas Oelmann.\nAb 17:00 Uhr besteht die Möglichkeit etwas zu essen und zu trinken. Beginn der Veranstaltung um 18:30 Uhr.
URL:https://www.mineralienfreunde.com/termin/steinschleifer-vortrag-wege-des-lichts-teil-2/
LOCATION:Königsgarten im Hansahaus (am Königsplatz)\, Brienner Str. 39\, 80333 München
CATEGORIES:Steinschleifer
END:VEVENT
END:VCALENDAR