BEGIN:VCALENDAR
VERSION:2.0
PRODID:-//Münchener Mineralienfreunde e.V. - ECPv6.15.20//NONSGML v1.0//EN
CALSCALE:GREGORIAN
METHOD:PUBLISH
X-WR-CALNAME:Münchener Mineralienfreunde e.V.
X-ORIGINAL-URL:https://www.mineralienfreunde.com
X-WR-CALDESC:Veranstaltungen für Münchener Mineralienfreunde e.V.
REFRESH-INTERVAL;VALUE=DURATION:PT1H
X-Robots-Tag:noindex
X-PUBLISHED-TTL:PT1H
BEGIN:VTIMEZONE
TZID:Europe/Berlin
BEGIN:DAYLIGHT
TZOFFSETFROM:+0100
TZOFFSETTO:+0200
TZNAME:CEST
DTSTART:20230326T010000
END:DAYLIGHT
BEGIN:STANDARD
TZOFFSETFROM:+0200
TZOFFSETTO:+0100
TZNAME:CET
DTSTART:20231029T010000
END:STANDARD
BEGIN:DAYLIGHT
TZOFFSETFROM:+0100
TZOFFSETTO:+0200
TZNAME:CEST
DTSTART:20240331T010000
END:DAYLIGHT
BEGIN:STANDARD
TZOFFSETFROM:+0200
TZOFFSETTO:+0100
TZNAME:CET
DTSTART:20241027T010000
END:STANDARD
BEGIN:DAYLIGHT
TZOFFSETFROM:+0100
TZOFFSETTO:+0200
TZNAME:CEST
DTSTART:20250330T010000
END:DAYLIGHT
BEGIN:STANDARD
TZOFFSETFROM:+0200
TZOFFSETTO:+0100
TZNAME:CET
DTSTART:20251026T010000
END:STANDARD
END:VTIMEZONE
BEGIN:VEVENT
DTSTART;TZID=Europe/Berlin:20240702T180000
DTEND;TZID=Europe/Berlin:20240702T180000
DTSTAMP:20260423T090414
CREATED:20231109T093737Z
LAST-MODIFIED:20240204T121203Z
UID:2195-1719943200-1719943200@www.mineralienfreunde.com
SUMMARY:Sardinien - Mineralien aus der Macchia
DESCRIPTION:  \nVortrag von G. Maetze aus Heilbronn. \nBeginn des Treffens um 18.00 Uhr mit Tauschgelegenheit. \nBeginn des Vortrags um 19.00 Uhr. \nUnsere Leihbibliothek ist von 18:00 – 18:45 Uhr geöffnet.
URL:https://www.mineralienfreunde.com/termin/sardinien-mineralien-aus-der-macchia/
LOCATION:LMU München – Hörsaal C112\, Theresienstraße 41\, 80333 München
CATEGORIES:Verein
END:VEVENT
BEGIN:VEVENT
DTSTART;TZID=Europe/Berlin:20240709T180000
DTEND;TZID=Europe/Berlin:20240709T180000
DTSTAMP:20260423T090414
CREATED:20231104T161344Z
LAST-MODIFIED:20240624T202712Z
UID:2178-1720548000-1720548000@www.mineralienfreunde.com
SUMMARY:Anfänger und Senioren - Meteorite
DESCRIPTION:  \nVortrag von F. Joseph und J. Zuncke aus München. \nAb 17:00 Uhr besteht die Möglichkeit etwas zu essen und zu trinken. Beginn der Veranstaltung um 18:30 Uhr.
URL:https://www.mineralienfreunde.com/termin/anfaenger-und-senioren-meteorite/
LOCATION:Königsgarten im Hansahaus (am Königsplatz)\, Brienner Str. 39\, 80333 München
CATEGORIES:Anfänger & Senioren
END:VEVENT
BEGIN:VEVENT
DTSTART;TZID=Europe/Berlin:20240716T170000
DTEND;TZID=Europe/Berlin:20240716T210000
DTSTAMP:20260423T090414
CREATED:20240624T202254Z
LAST-MODIFIED:20240701T062359Z
UID:2382-1721149200-1721163600@www.mineralienfreunde.com
SUMMARY:Steinschleifer - Unsere Münchner Schleifergruppe auf Achatsuche
DESCRIPTION:  \nVortragender: Klaus-Dieter Hoffmann\nAb 17:00 Uhr besteht die Möglichkeit etwas zu essen und zu trinken. Beginn der Veranstaltung um 18:30 Uhr.
URL:https://www.mineralienfreunde.com/termin/steinschleifer-vortrag-wird-noch-bekanntgegeben/
LOCATION:Königsgarten im Hansahaus (am Königsplatz)\, Brienner Str. 39\, 80333 München
CATEGORIES:Steinschleifer
END:VEVENT
BEGIN:VEVENT
DTSTART;TZID=Europe/Berlin:20240725T180000
DTEND;TZID=Europe/Berlin:20240725T210000
DTSTAMP:20260423T090414
CREATED:20240715T060325Z
LAST-MODIFIED:20240715T060351Z
UID:2391-1721930400-1721941200@www.mineralienfreunde.com
SUMMARY:Mineralogie - Grüne Granate
DESCRIPTION:  \nBeginn des Treffens ist um 18.00 Uhr.
URL:https://www.mineralienfreunde.com/termin/mineralogie-gruene-granate/
LOCATION:Stufenheim\, Am Brunnen 18\, 85551 Kirchheim\, Deutschland
CATEGORIES:Mineralogie
END:VEVENT
END:VCALENDAR