BEGIN:VCALENDAR
VERSION:2.0
PRODID:-//Münchener Mineralienfreunde e.V. - ECPv6.15.20//NONSGML v1.0//EN
CALSCALE:GREGORIAN
METHOD:PUBLISH
X-WR-CALNAME:Münchener Mineralienfreunde e.V.
X-ORIGINAL-URL:https://www.mineralienfreunde.com
X-WR-CALDESC:Veranstaltungen für Münchener Mineralienfreunde e.V.
REFRESH-INTERVAL;VALUE=DURATION:PT1H
X-Robots-Tag:noindex
X-PUBLISHED-TTL:PT1H
BEGIN:VTIMEZONE
TZID:Europe/Berlin
BEGIN:DAYLIGHT
TZOFFSETFROM:+0100
TZOFFSETTO:+0200
TZNAME:CEST
DTSTART:20230326T010000
END:DAYLIGHT
BEGIN:STANDARD
TZOFFSETFROM:+0200
TZOFFSETTO:+0100
TZNAME:CET
DTSTART:20231029T010000
END:STANDARD
BEGIN:DAYLIGHT
TZOFFSETFROM:+0100
TZOFFSETTO:+0200
TZNAME:CEST
DTSTART:20240331T010000
END:DAYLIGHT
BEGIN:STANDARD
TZOFFSETFROM:+0200
TZOFFSETTO:+0100
TZNAME:CET
DTSTART:20241027T010000
END:STANDARD
BEGIN:DAYLIGHT
TZOFFSETFROM:+0100
TZOFFSETTO:+0200
TZNAME:CEST
DTSTART:20250330T010000
END:DAYLIGHT
BEGIN:STANDARD
TZOFFSETFROM:+0200
TZOFFSETTO:+0100
TZNAME:CET
DTSTART:20251026T010000
END:STANDARD
END:VTIMEZONE
BEGIN:VEVENT
DTSTART;TZID=Europe/Berlin:20241001T180000
DTEND;TZID=Europe/Berlin:20241001T203000
DTSTAMP:20260423T041003
CREATED:20231109T094004Z
LAST-MODIFIED:20240723T160428Z
UID:2199-1727805600-1727814600@www.mineralienfreunde.com
SUMMARY:Der Holzkirchener Geopfad - Spuren der Eiszeit in und um Holzkirchen
DESCRIPTION:Vortrag von F. Kestler aus Holzkirchen. \nBeginn des Treffens um 18.00 Uhr mit Tauschgelegenheit. \nBeginn des Vortrags um 19.00 Uhr. \nUnsere Leihbibliothek ist von 18:00 – 18:45 Uhr geöffnet.
URL:https://www.mineralienfreunde.com/termin/der-holzkirchner-geopfad-spuren-der-eiszeit-in-und-um-holzkirchen/
LOCATION:LMU München – Hörsaal C112\, Theresienstraße 41\, 80333 München
CATEGORIES:Verein
END:VEVENT
BEGIN:VEVENT
DTSTART;TZID=Europe/Berlin:20241008T180000
DTEND;TZID=Europe/Berlin:20241008T203000
DTSTAMP:20260423T041003
CREATED:20240804T161257Z
LAST-MODIFIED:20240804T161257Z
UID:2432-1728410400-1728419400@www.mineralienfreunde.com
SUMMARY:Anfänger und Senioren - Bernsteine
DESCRIPTION:Vortrag von Lutz Happich. \nBeginn der Veranstaltung um 18:00 Uhr\, Vortrag ab 19:00 Uhr. \nEs besteht die Möglichkeit etwas zu essen und zu trinken.
URL:https://www.mineralienfreunde.com/termin/anfaenger-und-senioren-bernsteine/
LOCATION:Wintergarten im Hansahaus (am Königsplatz)\, Brienner Straße 39\, 80333 München
CATEGORIES:Anfänger & Senioren
END:VEVENT
BEGIN:VEVENT
DTSTART;TZID=Europe/Berlin:20241015T180000
DTEND;TZID=Europe/Berlin:20241015T203000
DTSTAMP:20260423T041003
CREATED:20240904T101807Z
LAST-MODIFIED:20241013T111936Z
UID:2447-1729015200-1729024200@www.mineralienfreunde.com
SUMMARY:Steinschleifer - Bericht über Exkursion ins Val Bedretto (Teil 1: Aktinolith\, Kyanit & Granat)
DESCRIPTION:ACHTUNG Raumänderung und dadurch auch späterer Start!\nVortragender: Klaus-Dieter Hoffmann\nBeginn des Vortrags um 18:30 Uhr.
URL:https://www.mineralienfreunde.com/termin/steinschleifer-bericht-ueber-exkursion-ins-val-bedretto/
LOCATION:LMU München – Hörsaal C107\, Theresienstraße 41 München\, 80333 Deutschland\, Deutschland
CATEGORIES:Steinschleifer
END:VEVENT
BEGIN:VEVENT
DTSTART;TZID=Europe/Berlin:20241017T173000
DTEND;TZID=Europe/Berlin:20241017T203000
DTSTAMP:20260423T041003
CREATED:20240728T063748Z
LAST-MODIFIED:20240728T063748Z
UID:2419-1729186200-1729197000@www.mineralienfreunde.com
SUMMARY:Micromounter - Mineralien aus dem Steinbruch Rattenberg (Bay. Wald)
DESCRIPTION:Treffen um 17.30 Uhr\, Umlauf ab ca. 19.00 Uhr.
URL:https://www.mineralienfreunde.com/termin/micromounter-mineralien-aus-dem-steinbruch-rattenberg-bay-wald/
LOCATION:Gaststätte Tassilo\, Am Sportpark 4\, 85609 Aschheim\, Deutschland
CATEGORIES:Micromounter
END:VEVENT
BEGIN:VEVENT
DTSTART;VALUE=DATE:20241024
DTEND;VALUE=DATE:20241028
DTSTAMP:20260423T041003
CREATED:20240926T123946Z
LAST-MODIFIED:20241018T141341Z
UID:2585-1729728000-1730073599@www.mineralienfreunde.com
SUMMARY:Stand A5.541 auf der Munich Show
DESCRIPTION:Auf unserem Stand auf der Munich Show sind alle Arbeitsgruppen vertreten und freuen sich täglich von 9-18 Uhr auf zahlreiche Besucher. Am Donnerstag und Freitag nur für Fachbesucher\, wie beispielsweise alle Mitglieder der Münchener Mineralienfreunde.
URL:https://www.mineralienfreunde.com/termin/stand-a5-541-auf-der-munich-show/
LOCATION:Messe München\, Osteingang\, Am Messeturm 4\, München\, 81929\, Germany
CATEGORIES:Anfänger & Senioren,Facettierer,Fotogruppe,Micromounter,Mineralogie,Steinschleifer,Verein
ATTACH;FMTTYPE=image/jpeg:https://www.mineralienfreunde.com/wp-content/uploads/2024/09/MMeV.jpg
END:VEVENT
END:VCALENDAR