BEGIN:VCALENDAR
VERSION:2.0
PRODID:-//Münchener Mineralienfreunde e.V. - ECPv6.15.20//NONSGML v1.0//EN
CALSCALE:GREGORIAN
METHOD:PUBLISH
X-WR-CALNAME:Münchener Mineralienfreunde e.V.
X-ORIGINAL-URL:https://www.mineralienfreunde.com
X-WR-CALDESC:Veranstaltungen für Münchener Mineralienfreunde e.V.
REFRESH-INTERVAL;VALUE=DURATION:PT1H
X-Robots-Tag:noindex
X-PUBLISHED-TTL:PT1H
BEGIN:VTIMEZONE
TZID:Europe/Berlin
BEGIN:DAYLIGHT
TZOFFSETFROM:+0100
TZOFFSETTO:+0200
TZNAME:CEST
DTSTART:20230326T010000
END:DAYLIGHT
BEGIN:STANDARD
TZOFFSETFROM:+0200
TZOFFSETTO:+0100
TZNAME:CET
DTSTART:20231029T010000
END:STANDARD
BEGIN:DAYLIGHT
TZOFFSETFROM:+0100
TZOFFSETTO:+0200
TZNAME:CEST
DTSTART:20240331T010000
END:DAYLIGHT
BEGIN:STANDARD
TZOFFSETFROM:+0200
TZOFFSETTO:+0100
TZNAME:CET
DTSTART:20241027T010000
END:STANDARD
BEGIN:DAYLIGHT
TZOFFSETFROM:+0100
TZOFFSETTO:+0200
TZNAME:CEST
DTSTART:20250330T010000
END:DAYLIGHT
BEGIN:STANDARD
TZOFFSETFROM:+0200
TZOFFSETTO:+0100
TZNAME:CET
DTSTART:20251026T010000
END:STANDARD
END:VTIMEZONE
BEGIN:VEVENT
DTSTART;TZID=Europe/Berlin:20241105T180000
DTEND;TZID=Europe/Berlin:20241105T203000
DTSTAMP:20260423T024832
CREATED:20231109T094115Z
LAST-MODIFIED:20241105T102604Z
UID:2201-1730829600-1730838600@www.mineralienfreunde.com
SUMMARY:neu: "Elmshorn - Paradebeispiel eines Meteoritenfalls"
DESCRIPTION:kurzfristige Änderung: Vortrag von Dieter Heinlein aus Augsburg. \nBeginn des Treffens um 18.00 Uhr mit Tauschgelegenheit. \nBeginn des Vortrags um 19.00 Uhr. \nUnsere Leihbibliothek ist von 18:00 – 18:45 Uhr geöffnet.
URL:https://www.mineralienfreunde.com/termin/vortrag-baryt/
LOCATION:LMU München – Hörsaal C112\, Theresienstraße 41\, 80333 München
CATEGORIES:Verein
ATTACH;FMTTYPE=image/jpeg:https://www.mineralienfreunde.com/wp-content/uploads/2024/11/Meteoritentreff.jpg
END:VEVENT
BEGIN:VEVENT
DTSTART;TZID=Europe/Berlin:20241112T180000
DTEND;TZID=Europe/Berlin:20241112T203000
DTSTAMP:20260423T024832
CREATED:20240804T161442Z
LAST-MODIFIED:20241106T084414Z
UID:2434-1731434400-1731443400@www.mineralienfreunde.com
SUMMARY:Anfänger und Senioren: "Die Juwelen der Wittelsbacher"
DESCRIPTION:Vortrag von Klaus-Dieter Hoffmann (Sendung des Bayerischen Rundfunks). \nBeginn der Veranstaltung um 18:00 Uhr\, Vortrag ab 19:00 Uhr. \nEs besteht die Möglichkeit etwas zu essen und zu trinken.
URL:https://www.mineralienfreunde.com/termin/anfaenger-und-senioren-die-juwelen-der-wittelsbacher/
LOCATION:Wintergarten im Hansahaus (am Königsplatz)\, Brienner Straße 39\, 80333 München
CATEGORIES:Anfänger & Senioren
ATTACH;FMTTYPE=image/jpeg:https://www.mineralienfreunde.com/wp-content/uploads/2024/11/MM18_Wittelsbacher_107-Kopie_Bildgroesse-aendern.jpg
END:VEVENT
BEGIN:VEVENT
DTSTART;TZID=Europe/Berlin:20241114T190000
DTEND;TZID=Europe/Berlin:20241114T210000
DTSTAMP:20260423T024832
CREATED:20241105T111045Z
LAST-MODIFIED:20241106T084619Z
UID:2770-1731610800-1731618000@www.mineralienfreunde.com
SUMMARY:Museum Mineralogia München: Eröffnung der Sonderausstellung GeoArt
DESCRIPTION:Veranstaltung der Mineralogischen Staatssammlung München\, verantwortlich: Dr. Melanie Kaliwoda
URL:https://www.mineralienfreunde.com/termin/museum-mineralogia-muenchen-eroeffnung-der-sonderausstellung-geoart/
LOCATION:Museum Mineralogica München\, Theresienstr. 41\, München\, 80333\, Germany
CATEGORIES:Partner-Veranstaltung
ATTACH;FMTTYPE=image/jpeg:https://www.mineralienfreunde.com/wp-content/uploads/2024/11/IMG_5715-1.jpg
END:VEVENT
BEGIN:VEVENT
DTSTART;TZID=Europe/Berlin:20241119T180000
DTEND;TZID=Europe/Berlin:20241119T203000
DTSTAMP:20260423T024832
CREATED:20240917T204357Z
LAST-MODIFIED:20241106T083744Z
UID:2581-1732039200-1732048200@www.mineralienfreunde.com
SUMMARY:Steinschleifer - Bericht über Exkursion ins Val Bedretto (Teil 2: Nadelquarz & Eisenrose)
DESCRIPTION:Vortragender: Wolfgang Waeger\nBeginn des Vortrags ca. 19:00 Uhr.
URL:https://www.mineralienfreunde.com/termin/steinschleifer-bericht-ueber-exkursion-ins-val-bedretto-teil-2-nadelquarz-eisenrose/
LOCATION:LMU München – Hörsaal C107\, Theresienstraße 41 München\, 80333 Deutschland\, Deutschland
CATEGORIES:Steinschleifer
ATTACH;FMTTYPE=image/jpeg:https://www.mineralienfreunde.com/wp-content/uploads/2024/11/Eisenrose.jpg
END:VEVENT
BEGIN:VEVENT
DTSTART;TZID=Europe/Berlin:20241121T173000
DTEND;TZID=Europe/Berlin:20241121T203000
DTSTAMP:20260423T024832
CREATED:20241018T112518Z
LAST-MODIFIED:20241106T083514Z
UID:2683-1732210200-1732221000@www.mineralienfreunde.com
SUMMARY:Micromounter - Mineralien aus der Oberpfalz
DESCRIPTION:Treffen ab 17:30 Uhr\, Umlauf ab ca. 19:00 Uhr.
URL:https://www.mineralienfreunde.com/termin/micromounter-mineralien-aus-der-oberpfalz/
LOCATION:Gaststätte Tassilo\, Am Sportpark 4\, 85609 Aschheim\, Deutschland
CATEGORIES:Micromounter
ATTACH;FMTTYPE=image/jpeg:https://www.mineralienfreunde.com/wp-content/uploads/2024/11/Micromounter.jpg
END:VEVENT
BEGIN:VEVENT
DTSTART;TZID=Europe/Berlin:20241128T180000
DTEND;TZID=Europe/Berlin:20241128T210000
DTSTAMP:20260423T024832
CREATED:20241106T081842Z
LAST-MODIFIED:20241119T130334Z
UID:2789-1732816800-1732827600@www.mineralienfreunde.com
SUMMARY:Mineralogie - Grube Morassina in Thüringen
DESCRIPTION:Beginn des Treffens ist um 18.00 Uhr.
URL:https://www.mineralienfreunde.com/termin/mineralogie-thema-wird-noch-festgelegt/
LOCATION:Stufenheim\, Am Brunnen 18\, 85551 Kirchheim\, Deutschland
CATEGORIES:Mineralogie
ATTACH;FMTTYPE=image/jpeg:https://www.mineralienfreunde.com/wp-content/uploads/2024/11/Morassina.jpg
END:VEVENT
END:VCALENDAR