BEGIN:VCALENDAR
VERSION:2.0
PRODID:-//Münchener Mineralienfreunde e.V. - ECPv6.15.20//NONSGML v1.0//EN
CALSCALE:GREGORIAN
METHOD:PUBLISH
X-WR-CALNAME:Münchener Mineralienfreunde e.V.
X-ORIGINAL-URL:https://www.mineralienfreunde.com
X-WR-CALDESC:Veranstaltungen für Münchener Mineralienfreunde e.V.
REFRESH-INTERVAL;VALUE=DURATION:PT1H
X-Robots-Tag:noindex
X-PUBLISHED-TTL:PT1H
BEGIN:VTIMEZONE
TZID:Europe/Berlin
BEGIN:DAYLIGHT
TZOFFSETFROM:+0100
TZOFFSETTO:+0200
TZNAME:CEST
DTSTART:20240331T010000
END:DAYLIGHT
BEGIN:STANDARD
TZOFFSETFROM:+0200
TZOFFSETTO:+0100
TZNAME:CET
DTSTART:20241027T010000
END:STANDARD
BEGIN:DAYLIGHT
TZOFFSETFROM:+0100
TZOFFSETTO:+0200
TZNAME:CEST
DTSTART:20250330T010000
END:DAYLIGHT
BEGIN:STANDARD
TZOFFSETFROM:+0200
TZOFFSETTO:+0100
TZNAME:CET
DTSTART:20251026T010000
END:STANDARD
BEGIN:DAYLIGHT
TZOFFSETFROM:+0100
TZOFFSETTO:+0200
TZNAME:CEST
DTSTART:20260329T010000
END:DAYLIGHT
BEGIN:STANDARD
TZOFFSETFROM:+0200
TZOFFSETTO:+0100
TZNAME:CET
DTSTART:20261025T010000
END:STANDARD
END:VTIMEZONE
BEGIN:VEVENT
DTSTART;TZID=Europe/Berlin:20250107T180000
DTEND;TZID=Europe/Berlin:20250107T203000
DTSTAMP:20260422T235618
CREATED:20241018T102356Z
LAST-MODIFIED:20241216T072820Z
UID:2640-1736272800-1736281800@www.mineralienfreunde.com
SUMMARY:Vortrag "Neue Mineralien aus Hagendorf"
DESCRIPTION:Vortrag von Dr. Rupert Hochleitner aus München. \nBeginn des Treffens um 18.00 Uhr mit Tauschgelegenheit. \nBeginn des Vortrags um 19.00 Uhr. \nUnsere Leihbibliothek ist von 18:00 – 18:45 Uhr geöffnet.
URL:https://www.mineralienfreunde.com/termin/vortrag-neue-mineralien-aus-hagendorf/
LOCATION:LMU München – Hörsaal C111\, Theresienstraße 41\, München\, 80333\, Deutschland
CATEGORIES:Verein
ATTACH;FMTTYPE=image/jpeg:https://www.mineralienfreunde.com/wp-content/uploads/2024/10/Chrysokoll_Bildgroesse-aendern.jpg
END:VEVENT
BEGIN:VEVENT
DTSTART;TZID=Europe/Berlin:20250114T180000
DTEND;TZID=Europe/Berlin:20250114T203000
DTSTAMP:20260422T235618
CREATED:20241105T103327Z
LAST-MODIFIED:20241108T143455Z
UID:2752-1736877600-1736886600@www.mineralienfreunde.com
SUMMARY:Anfänger und Senioren: "Exkursion in die Surselva"
DESCRIPTION:Vortrag von Christian Fischer aus München. \nBeginn der Veranstaltung um 18:00 Uhr\, Vortrag ab 19:00 Uhr. \nEs besteht die Möglichkeit etwas zu essen und zu trinken.
URL:https://www.mineralienfreunde.com/termin/anfaenger-und-senioren-exkursion-in-die-surselva/
LOCATION:Wintergarten im Hansahaus (am Königsplatz)\, Brienner Straße 39\, 80333 München
CATEGORIES:Anfänger & Senioren
ATTACH;FMTTYPE=image/jpeg:https://www.mineralienfreunde.com/wp-content/uploads/2024/11/surselva.jpg
END:VEVENT
BEGIN:VEVENT
DTSTART;TZID=Europe/Berlin:20250116T180000
DTEND;TZID=Europe/Berlin:20250116T203000
DTSTAMP:20260422T235618
CREATED:20241018T110045Z
LAST-MODIFIED:20241203T091319Z
UID:2663-1737050400-1737059400@www.mineralienfreunde.com
SUMMARY:Micromounter - Mineralien aus Österreich und Italien
DESCRIPTION:Treffen ab 18:00 Uhr\, Umlauf ab ca. 19:00 Uhr.
URL:https://www.mineralienfreunde.com/termin/micromounter-grube-bruederbund-siegerland-2/
LOCATION:Gaststätte Tassilo\, Am Sportpark 4\, 85609 Aschheim\, Deutschland
CATEGORIES:Micromounter
ATTACH;FMTTYPE=image/jpeg:https://www.mineralienfreunde.com/wp-content/uploads/2024/12/Bertrandit.jpg
END:VEVENT
BEGIN:VEVENT
DTSTART;TZID=Europe/Berlin:20250121T180000
DTEND;TZID=Europe/Berlin:20250121T203000
DTSTAMP:20260422T235619
CREATED:20250120T110250Z
LAST-MODIFIED:20250120T110250Z
UID:2891-1737482400-1737491400@www.mineralienfreunde.com
SUMMARY:Steinschleifer - Vorstellung Exkursionen 2025 / Vorstellung Jahresprogramm und Jahresprojekt 2025
DESCRIPTION:Vortragender: Klaus Dieter Hoffmann / Elisabeth Eberle\nBeginn des Vortrags ca. 19:00 Uhr.
URL:https://www.mineralienfreunde.com/termin/steinschleifer-vorstellung-exkursionen-2025-vorstellung-jahresprogramm-und-jahresprojekt-2025/
LOCATION:LMU München – Hörsaal C107\, Theresienstraße 41 München\, 80333 Deutschland\, Deutschland
CATEGORIES:Steinschleifer
END:VEVENT
BEGIN:VEVENT
DTSTART;TZID=Europe/Berlin:20250123T180000
DTEND;TZID=Europe/Berlin:20250123T210000
DTSTAMP:20260422T235619
CREATED:20250109T210412Z
LAST-MODIFIED:20250109T210412Z
UID:2885-1737655200-1737666000@www.mineralienfreunde.com
SUMMARY:Mineralogie - Vorstellung der KI/AI-künstlichen Intelligenz Chat GPT
DESCRIPTION:Beginn des Treffens ist um 18.00 Uhr.
URL:https://www.mineralienfreunde.com/termin/mineralogie-vorstellung-der-ki-ai-kuenstlichen-intelligenz-chat-gpt/
LOCATION:Stufenheim\, Am Brunnen 18\, 85551 Kirchheim\, Deutschland
CATEGORIES:Mineralogie
ATTACH;FMTTYPE=image/jpeg:https://www.mineralienfreunde.com/wp-content/uploads/2024/11/MM24_TIC_02e_06-Kopie_Bildgroesse-aendern.jpg
END:VEVENT
END:VCALENDAR