BEGIN:VCALENDAR
VERSION:2.0
PRODID:-//Münchener Mineralienfreunde e.V. - ECPv6.15.20//NONSGML v1.0//EN
CALSCALE:GREGORIAN
METHOD:PUBLISH
X-ORIGINAL-URL:https://www.mineralienfreunde.com
X-WR-CALDESC:Veranstaltungen für Münchener Mineralienfreunde e.V.
REFRESH-INTERVAL;VALUE=DURATION:PT1H
X-Robots-Tag:noindex
X-PUBLISHED-TTL:PT1H
BEGIN:VTIMEZONE
TZID:Europe/Berlin
BEGIN:DAYLIGHT
TZOFFSETFROM:+0100
TZOFFSETTO:+0200
TZNAME:CEST
DTSTART:20240331T010000
END:DAYLIGHT
BEGIN:STANDARD
TZOFFSETFROM:+0200
TZOFFSETTO:+0100
TZNAME:CET
DTSTART:20241027T010000
END:STANDARD
BEGIN:DAYLIGHT
TZOFFSETFROM:+0100
TZOFFSETTO:+0200
TZNAME:CEST
DTSTART:20250330T010000
END:DAYLIGHT
BEGIN:STANDARD
TZOFFSETFROM:+0200
TZOFFSETTO:+0100
TZNAME:CET
DTSTART:20251026T010000
END:STANDARD
BEGIN:DAYLIGHT
TZOFFSETFROM:+0100
TZOFFSETTO:+0200
TZNAME:CEST
DTSTART:20260329T010000
END:DAYLIGHT
BEGIN:STANDARD
TZOFFSETFROM:+0200
TZOFFSETTO:+0100
TZNAME:CET
DTSTART:20261025T010000
END:STANDARD
END:VTIMEZONE
BEGIN:VEVENT
DTSTART;TZID=Europe/Berlin:20250204T180000
DTEND;TZID=Europe/Berlin:20250204T203000
DTSTAMP:20260422T223153
CREATED:20241018T102803Z
LAST-MODIFIED:20241216T072857Z
UID:2642-1738692000-1738701000@www.mineralienfreunde.com
SUMMARY:Vortrag "Windischeschenbach - Aufbruch zum Mittelpunkt der Erde"
DESCRIPTION:Vortrag von Dr. Frank Holzförster aus Windischeschenbach. \nBeginn des Treffens um 18.00 Uhr mit Tauschgelegenheit. \nBeginn des Vortrags um 19.00 Uhr. \nUnsere Leihbibliothek ist von 18:00 – 18:45 Uhr geöffnet.
URL:https://www.mineralienfreunde.com/termin/vortrag-windischeschenbach-aufbruch-zum-mittelpunkt-der-erde/
LOCATION:LMU München – Hörsaal C111\, Theresienstraße 41\, München\, 80333\, Deutschland
CATEGORIES:Verein
ATTACH;FMTTYPE=image/jpeg:https://www.mineralienfreunde.com/wp-content/uploads/2024/12/KTB-2Bvon-2BW-2B08-6199abed.jpg
END:VEVENT
BEGIN:VEVENT
DTSTART;TZID=Europe/Berlin:20250211T180000
DTEND;TZID=Europe/Berlin:20250211T203000
DTSTAMP:20260422T223153
CREATED:20241105T103521Z
LAST-MODIFIED:20241108T141225Z
UID:2755-1739296800-1739305800@www.mineralienfreunde.com
SUMMARY:Anfänger und Senioren: "Miles\, Minerals and More - Eine Sammlerreise durch die USA"
DESCRIPTION:Vortrag von Stefan Kaserer aus Straßlach. \nBeginn der Veranstaltung um 18:00 Uhr\, Vortrag ab 19:00 Uhr. \nEs besteht die Möglichkeit etwas zu essen und zu trinken.
URL:https://www.mineralienfreunde.com/termin/anfaenger-und-senioren-miles-minerals-and-more-eine-sammlerreise-durch-die-usa/
LOCATION:Wintergarten im Hansahaus (am Königsplatz)\, Brienner Straße 39\, 80333 München
CATEGORIES:Anfänger & Senioren
ATTACH;FMTTYPE=image/jpeg:https://www.mineralienfreunde.com/wp-content/uploads/2024/11/USA.jpg
END:VEVENT
BEGIN:VEVENT
DTSTART;TZID=Europe/Berlin:20250218T170000
DTEND;TZID=Europe/Berlin:20250218T203000
DTSTAMP:20260422T223153
CREATED:20241205T190030Z
LAST-MODIFIED:20250127T225313Z
UID:2859-1739898000-1739910600@www.mineralienfreunde.com
SUMMARY:Steinschleifer - Filmbeitrag über Kristallsucher am Mont Blanc
DESCRIPTION:Vorführender: Klaus Dieter Hoffmann\nBeginn des Vortrags ca. 19:00 Uhr.
URL:https://www.mineralienfreunde.com/termin/steinschleifer-2025-02/
LOCATION:Königsgarten im Hansahaus (am Königsplatz)\, Brienner Str. 39\, 80333 München
CATEGORIES:Steinschleifer
ATTACH;FMTTYPE=image/jpeg:https://www.mineralienfreunde.com/wp-content/uploads/2025/01/Mont-Blanc_Bildgroesse-aendern.jpg
END:VEVENT
BEGIN:VEVENT
DTSTART;TZID=Europe/Berlin:20250220T180000
DTEND;TZID=Europe/Berlin:20250220T203000
DTSTAMP:20260422T223153
CREATED:20241018T110704Z
LAST-MODIFIED:20241203T090544Z
UID:2665-1740074400-1740083400@www.mineralienfreunde.com
SUMMARY:Micromounter - Granate aus aller Welt
DESCRIPTION:Vortrag von Andreas Steinberger. \nTreffen ab 18:00 Uhr\, Umlauf ab ca. 19:00 Uhr.
URL:https://www.mineralienfreunde.com/termin/micromounter-mineralien-aus-dem-salzburger-land-2/
LOCATION:Gaststätte Tassilo\, Am Sportpark 4\, 85609 Aschheim\, Deutschland
CATEGORIES:Micromounter
ATTACH;FMTTYPE=image/jpeg:https://www.mineralienfreunde.com/wp-content/uploads/2024/12/Granate.jpg
END:VEVENT
END:VCALENDAR