BEGIN:VCALENDAR
VERSION:2.0
PRODID:-//Münchener Mineralienfreunde e.V. - ECPv6.15.20//NONSGML v1.0//EN
CALSCALE:GREGORIAN
METHOD:PUBLISH
X-WR-CALNAME:Münchener Mineralienfreunde e.V.
X-ORIGINAL-URL:https://www.mineralienfreunde.com
X-WR-CALDESC:Veranstaltungen für Münchener Mineralienfreunde e.V.
REFRESH-INTERVAL;VALUE=DURATION:PT1H
X-Robots-Tag:noindex
X-PUBLISHED-TTL:PT1H
BEGIN:VTIMEZONE
TZID:Europe/Berlin
BEGIN:DAYLIGHT
TZOFFSETFROM:+0100
TZOFFSETTO:+0200
TZNAME:CEST
DTSTART:20240331T010000
END:DAYLIGHT
BEGIN:STANDARD
TZOFFSETFROM:+0200
TZOFFSETTO:+0100
TZNAME:CET
DTSTART:20241027T010000
END:STANDARD
BEGIN:DAYLIGHT
TZOFFSETFROM:+0100
TZOFFSETTO:+0200
TZNAME:CEST
DTSTART:20250330T010000
END:DAYLIGHT
BEGIN:STANDARD
TZOFFSETFROM:+0200
TZOFFSETTO:+0100
TZNAME:CET
DTSTART:20251026T010000
END:STANDARD
BEGIN:DAYLIGHT
TZOFFSETFROM:+0100
TZOFFSETTO:+0200
TZNAME:CEST
DTSTART:20260329T010000
END:DAYLIGHT
BEGIN:STANDARD
TZOFFSETFROM:+0200
TZOFFSETTO:+0100
TZNAME:CET
DTSTART:20261025T010000
END:STANDARD
END:VTIMEZONE
BEGIN:VEVENT
DTSTART;TZID=Europe/Berlin:20250401T180000
DTEND;TZID=Europe/Berlin:20250401T203000
DTSTAMP:20260422T193911
CREATED:20241018T103310Z
LAST-MODIFIED:20250127T223724Z
UID:2647-1743530400-1743539400@www.mineralienfreunde.com
SUMMARY:Vortrag "Faszination Beryll"
DESCRIPTION:Vortrag von Dr. Paul Rustemeyer aus Gundelfingen. \nBeginn des Treffens um 18.00 Uhr mit Tauschgelegenheit. \nBeginn des Vortrags um 19.00 Uhr. \nDie Leihbibliothek steht heute nicht zur Verfügung!
URL:https://www.mineralienfreunde.com/termin/vortrag-faszination-beryl/
LOCATION:Königsgarten im Hansahaus (am Königsplatz)\, Brienner Str. 39\, 80333 München
CATEGORIES:Verein
ATTACH;FMTTYPE=image/jpeg:https://www.mineralienfreunde.com/wp-content/uploads/2024/11/Beryll.jpg
END:VEVENT
BEGIN:VEVENT
DTSTART;TZID=Europe/Berlin:20250408T180000
DTEND;TZID=Europe/Berlin:20250408T203000
DTSTAMP:20260422T193911
CREATED:20241105T104120Z
LAST-MODIFIED:20250407T135759Z
UID:2761-1744135200-1744144200@www.mineralienfreunde.com
SUMMARY:Anfänger und Senioren: "Bergwerk Morassina im Thüringischen Schiefergebirge"
DESCRIPTION:Vortrag von Hans-Jürgen Backhaus aus Ebersberg. \nAchtung: Diesmal im Läugerzimmer des Hansa-Hauses!\nBeginn der Veranstaltung um 18:00 Uhr\, Vortrag ab 19:00 Uhr. \nEs besteht die Möglichkeit etwas zu essen und zu trinken.
URL:https://www.mineralienfreunde.com/termin/anfaenger-und-senioren-bergwerk-morassina-im-saechsischen-schiefergebirge/
LOCATION:Läugerzimmer im Hansahaus (am Königsplatz)\, Briennerstr. 39\, München\, 80333\, Deutschland
CATEGORIES:Anfänger & Senioren
ATTACH;FMTTYPE=image/jpeg:https://www.mineralienfreunde.com/wp-content/uploads/2024/11/Morassina.jpg
END:VEVENT
BEGIN:VEVENT
DTSTART;TZID=Europe/Berlin:20250415T170000
DTEND;TZID=Europe/Berlin:20250415T203000
DTSTAMP:20260422T193911
CREATED:20241205T190303Z
LAST-MODIFIED:20250410T191629Z
UID:2865-1744736400-1744749000@www.mineralienfreunde.com
SUMMARY:Steinschleifer - Achtung Änderung: Vortrag über unsere Exkursion nach Wendelsheim und Niederwörresbach
DESCRIPTION:Vortragender: Klaus Dieter Hoffmann\nBeginn des Vortrags ca. 19:00 Uhr.
URL:https://www.mineralienfreunde.com/termin/steinschleifer-2025-04/
LOCATION:Königsgarten im Hansahaus (am Königsplatz)\, Brienner Str. 39\, 80333 München
CATEGORIES:Steinschleifer
ATTACH;FMTTYPE=image/jpeg:https://www.mineralienfreunde.com/wp-content/uploads/2025/04/Niederwoerresbach.jpg
END:VEVENT
BEGIN:VEVENT
DTSTART;TZID=Europe/Berlin:20250417T180000
DTEND;TZID=Europe/Berlin:20250417T203000
DTSTAMP:20260422T193911
CREATED:20241018T111152Z
LAST-MODIFIED:20250328T091825Z
UID:2669-1744912800-1744921800@www.mineralienfreunde.com
SUMMARY:Micromounter - Entfällt!
DESCRIPTION:Vortrag von Andreas Steinberger. \nTreffen ab 18:00 Uhr\, Umlauf ab ca. 19:00 Uhr.
URL:https://www.mineralienfreunde.com/termin/micromounter-neufunde-2024/
LOCATION:Gaststätte Tassilo\, Am Sportpark 4\, 85609 Aschheim\, Deutschland
CATEGORIES:Micromounter
ATTACH;FMTTYPE=image/jpeg:https://www.mineralienfreunde.com/wp-content/uploads/2025/02/entfaellt.jpg
END:VEVENT
END:VCALENDAR